BEGIN:VCALENDAR
VERSION:2.0
PRODID:Events Booking
BEGIN:VEVENT
UID:69e4d1b8acd78
SUMMARY:Im Zeichen von BIM & Co. - 3. Schweizer BIM Kongress
DESCRIPTION:Die von Bauen digital Schweiz und der Swissbau organisierte Ver
 anstaltung ist die massgebende Veranstaltung zur digitalen Transformation 
 in der Schweizer Bau- und Immobilienwirtschaft und der jährliche Treffpun
 kt aller EntscheidungsträgerInnen\, FachexpertInnen und AnwenderInnen.
DTSTART:20181107T230000Z
DTEND:20181108T230000Z
DTSTAMP:20260419T145936Z
ORGANIZER;CN=IFMA Schweiz :MAILTO:admin@ifma.ch
END:VEVENT
END:VCALENDAR