BEGIN:VCALENDAR
VERSION:2.0
PRODID:Events Booking
BEGIN:VEVENT
UID:69e5f6d8a94d3
SUMMARY:IFMA Workshop ProLeMo+ Prozesslandschaft im FM 
DESCRIPTION:
 &nbsp\;
 René Sigg\, Vorstand IFMA Ressort InnovationenTho
 mas Kral\, Vorstand IFMA Ressort Regionen
 Swissbau Focus\, Raum 1
 Anme
 ldung via Swissbau www.swissbau.ch/veranstaltungskalender Veranstalter IFM
 A eingeben
 
LOCATION:Messepl. 1\, 4058 Basel\, Schweiz
DTSTART:20220506T133000Z
DTEND:20220506T143000Z
DTSTAMP:20260420T115016Z
ORGANIZER;CN=IFMA Schweiz :MAILTO:admin@ifma.ch
GEO:47.563976;7.599431
X-APPLE-STRUCTURED-LOCATION;VALUE=URI;X-ADDRESS=Messepl. 1\, 4058 Basel\, S
 chweiz;X-APPLE-RADIUS=72;X-TITLE=Basel\, Messe Basel Halle 1.0 Süd:47.563
 976;7.599431
END:VEVENT
END:VCALENDAR