BEGIN:VCALENDAR
VERSION:2.0
PRODID:Events Booking
BEGIN:VEVENT
UID:69e5e881a88d2
SUMMARY:Hightech im Gebäudebereich
DESCRIPTION:Der Event findet im Rahmen der Veranstaltungsreihe ENERGIE Even
 ts 2021/22: \"Gebäudepark im (Klima-)Wandel\" statt. Sie hören drei Refe
 rate zu den folgenden Themen:
 
 Simulation von Energiesystemen
 Adapti
 ve Fassaden
 Das Mehrfamilienhaus aus dem 3D-Drucker 
 
LOCATION:Weinbergstrasse 36\, 8006 Zürich\, Schweiz
DTSTART:20211109T161500Z
DTEND:20211109T180000Z
DTSTAMP:20260420T104905Z
ORGANIZER;CN=IFMA Schweiz :MAILTO:admin@ifma.ch
GEO:47.379872;8.544478
X-APPLE-STRUCTURED-LOCATION;VALUE=URI;X-ADDRESS=Weinbergstrasse 36\, 8006 Z
 ürich\, Schweiz;X-APPLE-RADIUS=72;X-TITLE=Zürich\, Pfarreizentrum Liebfr
 auen:47.379872;8.544478
END:VEVENT
END:VCALENDAR