BEGIN:VCALENDAR
VERSION:2.0
PRODID:Events Booking
BEGIN:VEVENT
UID:69e8a222be8eb
SUMMARY:GNI feiert 25 Jahre +
DESCRIPTION:GNI lädt zum Verbandstreffen in Zürich zum Thema \"Zünfte un
 d Networking\" ein\, um die 25 Jahre + würdig zu feiern. Es erwarten Sie 
 eine Führung\, auf der die Entstehung der Zürcher Zünfte und deren Bede
 utung für Zürich erläutert wird sowie einige Überraschungen.Heute wie 
 früher ist es wichtig\, sich zu vernetzen und zu begegnen! Im Anschluss a
 n den Rundgang lädt GNI ihre Mitglieder ein zu einem gemeinsamen Abend im
  Restaurant Zunfthaus zur Waag.
LOCATION:Zürich\, Schweiz
DTSTART:20220630T120000Z
DTSTAMP:20220504T072306Z
ORGANIZER;CN=IFMA Schweiz :MAILTO:admin@ifma.ch
GEO:47.376887;8.541694
X-APPLE-STRUCTURED-LOCATION;VALUE=URI;X-ADDRESS=Zürich\, Schweiz;X-APPLE-R
 ADIUS=72;X-TITLE=Zürich:47.376887;8.541694
END:VEVENT
END:VCALENDAR