BEGIN:VCALENDAR
VERSION:2.0
PRODID:Events Booking
BEGIN:VEVENT
UID:69eb3c733a7b9
SUMMARY:Fachtagung zum Thema Innovationen in FM in HC 
DESCRIPTION:Neben zahlreichen spannenden Einblicken in abgeschlossene und a
 ktuelle Forschungsarbeiten - mit hochbrisanten Forschungsfragen rund um di
 e Themen Prozess-Optimierung\, Effizienz- und Qualitätssteigerung - ist d
 er FM Perspektiven Tag 2021 der Digitalisierung im Healthcare gewidmet.
DTSTART:20211126T070000Z
DTEND:20211126T160000Z
DTSTAMP:20260424T114835Z
ORGANIZER;CN=IFMA Schweiz :MAILTO:admin@ifma.ch
END:VEVENT
END:VCALENDAR