BEGIN:VCALENDAR
VERSION:2.0
PRODID:Events Booking
BEGIN:VEVENT
UID:69e8b3de8dd26
SUMMARY:EuroFM Winterschool
DESCRIPTION:
 The FM &amp\; REM WinterSchool is an international program w
 here students from the US\, the Netherlands\, Germany\, Austria and other 
 countries work together. Every year more than 200 students came to Kufstei
 n (2021 100% digitally) for one week during the winter to develop a sustai
 nable urban real estate project
LOCATION:Zürich\, Schweiz
DTSTART:20220221T070000Z
DTEND:20220225T160000Z
DTSTAMP:20220126T152243Z
ORGANIZER;CN=IFMA Schweiz :MAILTO:admin@ifma.ch
GEO:47.376887;8.541694
X-APPLE-STRUCTURED-LOCATION;VALUE=URI;X-ADDRESS=Zürich\, Schweiz;X-APPLE-R
 ADIUS=72;X-TITLE=online:47.376887;8.541694
END:VEVENT
END:VCALENDAR