BEGIN:VCALENDAR
VERSION:2.0
PRODID:Events Booking
BEGIN:VEVENT
UID:69e4e56d2c809
SUMMARY:Einladung zur Lancierung Gebäudelabel SNBS 2.0
DESCRIPTION:Nach einem Jahr intensiver Vorarbeiten lanciert SGS Société G
 énérale de Surveillance SA die Zertifizierung nach dem Standard Nachhalt
 iges Bauen Schweiz SNBS 2.0.&nbsp\; Am Anlass ist zu erfahren\, wie das Ze
 rtifizierungssystem funktioniert\, was die Anforderungen sind und wer wof
 ür zuständig ist. Es werden auch erste Praxisbeispiele vorgestellt.
DTSTART:20160823T143000Z
DTEND:20160822T220000Z
DTSTAMP:20260419T162341Z
ORGANIZER;CN=IFMA Schweiz :MAILTO:admin@ifma.ch
END:VEVENT
END:VCALENDAR