BEGIN:VCALENDAR
VERSION:2.0
PRODID:Events Booking
BEGIN:VEVENT
UID:69e5f6542dcfb
SUMMARY:EFMC 2022
DESCRIPTION:Voravis
DTSTART:20220608T060000Z
DTEND:20220610T150000Z
DTSTAMP:20260420T114804Z
ORGANIZER;CN=IFMA Schweiz :MAILTO:admin@ifma.ch
END:VEVENT
END:VCALENDAR