BEGIN:VCALENDAR
VERSION:2.0
PRODID:Events Booking
BEGIN:VEVENT
UID:69e60d218ff2c
SUMMARY:Early Bird Netzwerk Nordschweiz im Juli
DESCRIPTION:Jeweils am ersten Dienstag im Monat\, von 07.30 – 08.30 Uhr\,
  treffen sich Interessierte im Hauptbahnhof Zürich zum losen Netzwerken b
 ei Kaffee und Gipfeli.
 Pro Anlass wird ein \"Special Guest\" eingeladen\
 , der mit den Teilnehmern und Teilnehmerinnen diskutiert.
LOCATION:Zürich HB\, Bahnhofpl.\, 8001 Zürich\, Schweiz
DTSTART:20220705T053000Z
DTEND:20220705T063000Z
DTSTAMP:20260420T132521Z
ORGANIZER;CN=IFMA Schweiz :MAILTO:admin@ifma.ch
GEO:47.377858;8.540323
X-APPLE-STRUCTURED-LOCATION;VALUE=URI;X-ADDRESS=Zürich HB\, Bahnhofpl.\, 8
 001 Zürich\, Schweiz;X-APPLE-RADIUS=72;X-TITLE=Zürich\, Café Oscar (am 
 HB):47.377858;8.540323
END:VEVENT
END:VCALENDAR