BEGIN:VCALENDAR
VERSION:2.0
PRODID:Events Booking
BEGIN:VEVENT
UID:69e8a2b042233
SUMMARY:Dezentrale künstliche Intelligenz im Stromnetz - Zukunftsmusik?
DESCRIPTION:FEZ UpToDateDas Smart-Meter Roll-out ermöglicht von Grund auf 
 neue Wege Daten zu erfassen und zu bearbeiten. So kann zum Beispiel künst
 liche Intelligenz (KI) dezentral auf diesen zusätzlichen Rechenressourcen
  am Netzrand eingesetzt werden\, direkt da\, wo der Strom verbraucht wird.
LOCATION:Zürich\, Schweiz
DTSTART:20220714T150000Z
DTEND:20220714T153000Z
DTSTAMP:20260422T122800Z
ORGANIZER;CN=IFMA Schweiz :MAILTO:admin@ifma.ch
GEO:47.376887;8.541694
X-APPLE-STRUCTURED-LOCATION;VALUE=URI;X-ADDRESS=Zürich\, Schweiz;X-APPLE-R
 ADIUS=72;X-TITLE=online:47.376887;8.541694
END:VEVENT
END:VCALENDAR