BEGIN:VCALENDAR
VERSION:2.0
PRODID:Events Booking
BEGIN:VEVENT
UID:69e5f6bfcdf45
SUMMARY:Betriebsoptimierung oder Mangel
DESCRIPTION:FEZ Fachveranstaltung BetriebsoptimierungGemeinsam soll an dies
 em Anlass erörtert werden\, wie praxistaugliche Abgrenzungen zwischen ein
 er energetischen Betriebsoptimierung und Mängeln der Ersteller aussehen k
 önnten. Mitglieder der FEZ-Kerngruppe Betriebsoptimierung werden zu diese
 m Zweck Praxisbeispiele vorstellen\, um eine Debatte im Plenum zu ermögli
 chen
LOCATION:Beatenpl. 2\, 8001 Zürich\, Schweiz
DTSTART:20220622T154500Z
DTEND:20220622T171500Z
DTSTAMP:20260420T114951Z
ORGANIZER;CN=IFMA Schweiz :MAILTO:admin@ifma.ch
GEO:47.37578;8.540698
X-APPLE-STRUCTURED-LOCATION;VALUE=URI;X-ADDRESS=Beatenpl. 2\, 8001 Zürich\
 , Schweiz;X-APPLE-RADIUS=72;X-TITLE=Zürich\, EWZ Vortragssaal:47.37578;8.
 540698
END:VEVENT
END:VCALENDAR