BEGIN:VCALENDAR
VERSION:2.0
PRODID:Events Booking
BEGIN:VEVENT
UID:69e636bc1d466
SUMMARY:7. Hygienetagung
DESCRIPTION:Am Vormittag wird im Bereich der Lufthygiene das Themenfeld ein
 er angemessenen Raumluftfeuchte beleuchtet. Im Rahmen eines Podiumsgesprä
 chs wird geklärt\, wie gross der Einfluss der Luftfeuchte auf den Mensche
 n und seine Gesundheit ist.
 Der Fokus am Nachmittag liegt beim Aktionspl
 an Legionellen des Bundes.
LOCATION:Baden\, Schweiz
DTSTART:20230505T060000Z
DTEND:20230505T150000Z
DTSTAMP:20220909T144432Z
ORGANIZER;CN=IFMA Schweiz :MAILTO:admin@ifma.ch
GEO:47.47288;8.30809
X-APPLE-STRUCTURED-LOCATION;VALUE=URI;X-ADDRESS=Baden\, Schweiz;X-APPLE-RAD
 IUS=72;X-TITLE=Baden:47.47288;8.30809
END:VEVENT
END:VCALENDAR